BEGIN:VCALENDAR
VERSION:2.0
PRODID:-//Tukios.com/
BEGIN:VEVENT
UID:7602ab91-0385-4494-b734-00bbe9cf6963@www.torresmortuary.com
DTSTAMP:20260422T232443Z
DTSTART:20260428T020000Z
DTEND:20260428T030000Z
SUMMARY:Mass / Misa
DESCRIPTION:
URL:https://www.torresmortuary.com/obituaries/xitlali-rodriguez
LOCATION:Epiphany Catholic Church 10911 Michael Hunt Dr  South El Monte 
	CA 91733
GEO:34.0461275;-118.0407289
END:VEVENT
END:VCALENDAR