BEGIN:VCALENDAR
VERSION:2.0
PRODID:-//Tukios.com/
BEGIN:VEVENT
UID:bb7b5a80-8dc7-4b94-b808-910efe7b8ba0@www.torresmortuary.com
DTSTAMP:20260423T021536Z
DTSTART:20260424T190000Z
DTEND:20260424T200000Z
SUMMARY:Mass
DESCRIPTION:
URL:https://www.torresmortuary.com/obituaries/joseph-rodriguez
LOCATION: 8301 Arroyo Dr  Rosemead CA 91770
GEO:34.040321;-118.089484
END:VEVENT
END:VCALENDAR