BEGIN:VCALENDAR
VERSION:2.0
PRODID:-//Tukios.com/
BEGIN:VEVENT
UID:10f8d37e-ed31-4abd-992d-f5adaab03950@www.torresmortuary.com
DTSTAMP:20260423T021321Z
DTSTART:20260424T170000Z
DTEND:20260424T190000Z
SUMMARY:Viewing
DESCRIPTION:
URL:https://www.torresmortuary.com/obituaries/joseph-rodriguez
LOCATION: 8301 Arroyo Dr  Rosemead CA 91770
GEO:34.040321;-118.089484
END:VEVENT
END:VCALENDAR