BEGIN:VCALENDAR
VERSION:2.0
PRODID:-//Tukios.com/
BEGIN:VEVENT
UID:edbca35e-8d19-45a6-8841-42a755614777@www.torresmortuary.com
DTSTAMP:20260420T164714Z
DTSTART:20260423T203000Z
DTEND:20260423T213000Z
SUMMARY:Graveside Service
DESCRIPTION:
URL:https://www.torresmortuary.com/obituaries/amelia-gonzalez
LOCATION: 966 Potrero Grande Dr  Rosemead CA 91770
GEO:34.039014;-118.1003003
END:VEVENT
END:VCALENDAR